Package: VanillaICE
Version: 1.68.0
Command: /Library/Frameworks/R.framework/Resources/bin/R CMD INSTALL VanillaICE
StartedAt: 2024-11-19 15:19:59 -0500 (Tue, 19 Nov 2024)
EndedAt: 2024-11-19 15:20:49 -0500 (Tue, 19 Nov 2024)
EllapsedTime: 50.7 seconds
RetCode: 0
Status: OK