Package: VanillaICE Version: 1.68.0 Command: /Library/Frameworks/R.framework/Resources/bin/R CMD INSTALL VanillaICE StartedAt: 2025-02-03 15:44:34 -0500 (Mon, 03 Feb 2025) EndedAt: 2025-02-03 15:45:53 -0500 (Mon, 03 Feb 2025) EllapsedTime: 78.3 seconds RetCode: 0 Status: OK