Package: VanillaICE Version: 1.68.0 Command: rm -rf VanillaICE.buildbin-libdir && mkdir VanillaICE.buildbin-libdir && F:\biocbuild\bbs-3.20-bioc\R\bin\R.exe CMD INSTALL --build --library=VanillaICE.buildbin-libdir VanillaICE_1.68.0.tar.gz StartedAt: 2025-02-04 09:44:35 -0500 (Tue, 04 Feb 2025) EndedAt: 2025-02-04 09:47:15 -0500 (Tue, 04 Feb 2025) EllapsedTime: 160.5 seconds RetCode: 0 Status: OK PackageFile: VanillaICE_1.68.0.zip PackageFileSize: 2.723 MiB