Package: VanillaICE Version: 1.68.0 Command: chmod a+r VanillaICE -R && F:\biocbuild\bbs-3.20-bioc\R\bin\R.exe CMD build --keep-empty-dirs --no-resave-data VanillaICE StartedAt: 2025-02-03 22:45:18 -0500 (Mon, 03 Feb 2025) EndedAt: 2025-02-03 22:47:36 -0500 (Mon, 03 Feb 2025) EllapsedTime: 137.5 seconds RetCode: 0 Status: OK PackageFile: VanillaICE_1.68.0.tar.gz PackageFileSize: 1.8 MiB