Package: VanillaICE Version: 1.68.0 Command: F:\biocbuild\bbs-3.20-bioc\R\bin\R.exe CMD check --no-multiarch --install=check:VanillaICE.install-out.txt --library=F:\biocbuild\bbs-3.20-bioc\R\library --no-vignettes --timings VanillaICE_1.68.0.tar.gz StartedAt: 2025-02-04 07:23:24 -0500 (Tue, 04 Feb 2025) EndedAt: 2025-02-04 07:28:46 -0500 (Tue, 04 Feb 2025) EllapsedTime: 321.9 seconds RetCode: 0 Status: OK CheckDir: VanillaICE.Rcheck Warnings: 0