Package: VanillaICE Version: 1.68.0 Command: /home/biocbuild/R/R/bin/R CMD build --keep-empty-dirs --no-resave-data VanillaICE StartedAt: 2025-02-04 03:46:44 -0000 (Tue, 04 Feb 2025) EndedAt: 2025-02-04 03:48:12 -0000 (Tue, 04 Feb 2025) EllapsedTime: 88.1 seconds RetCode: 0 Status: OK PackageFile: VanillaICE_1.68.0.tar.gz PackageFileSize: 2.06 MiB