Package: VanillaICE Version: 1.68.0 Command: /home/biocbuild/R/R/bin/R CMD check --install=check:VanillaICE.install-out.txt --library=/home/biocbuild/R/R/site-library --no-vignettes --timings VanillaICE_1.68.0.tar.gz StartedAt: 2025-02-04 12:01:43 -0000 (Tue, 04 Feb 2025) EndedAt: 2025-02-04 12:06:51 -0000 (Tue, 04 Feb 2025) EllapsedTime: 308.5 seconds RetCode: 0 Status: OK CheckDir: VanillaICE.Rcheck Warnings: 0