Package: VariantAnnotation Version: 1.52.0 Command: rm -rf VariantAnnotation.buildbin-libdir && mkdir VariantAnnotation.buildbin-libdir && /Users/biocbuild/BBS/utils/build-universal.sh VariantAnnotation_1.52.0.tar.gz /Library/Frameworks/R.framework/Resources/bin/R VariantAnnotation.buildbin-libdir StartedAt: 2025-02-05 18:14:14 -0500 (Wed, 05 Feb 2025) EndedAt: 2025-02-05 18:15:47 -0500 (Wed, 05 Feb 2025) EllapsedTime: 93.6 seconds RetCode: 0 Status: OK PackageFile: VariantAnnotation_1.52.0.tgz PackageFileSize: 4.298 MiB