Package: VariantAnnotation Version: 1.52.0 Command: /Library/Frameworks/R.framework/Resources/bin/R CMD check --install=check:VariantAnnotation.install-out.txt --library=/Library/Frameworks/R.framework/Resources/library --no-vignettes --timings VariantAnnotation_1.52.0.tar.gz StartedAt: 2025-02-05 13:53:35 -0500 (Wed, 05 Feb 2025) EndedAt: 2025-02-05 14:02:35 -0500 (Wed, 05 Feb 2025) EllapsedTime: 539.8 seconds RetCode: 0 Status: WARNINGS CheckDir: VariantAnnotation.Rcheck Warnings: 2