Package: VariantAnnotation Version: 1.52.0 Command: /home/biocbuild/bbs-3.20-bioc/R/bin/R CMD build --keep-empty-dirs --no-resave-data --md5 VariantAnnotation StartedAt: 2025-02-03 19:45:06 -0500 (Mon, 03 Feb 2025) EndedAt: 2025-02-03 19:47:37 -0500 (Mon, 03 Feb 2025) EllapsedTime: 151.1 seconds RetCode: 0 Status: OK PackageFile: VariantAnnotation_1.52.0.tar.gz PackageFileSize: 2.047 MiB