Package: VariantAnnotation Version: 1.52.0 Command: /home/biocbuild/bbs-3.20-bioc/R/bin/R CMD check --install=check:VariantAnnotation.install-out.txt --library=/home/biocbuild/bbs-3.20-bioc/R/site-library --timings VariantAnnotation_1.52.0.tar.gz StartedAt: 2025-02-04 03:29:10 -0500 (Tue, 04 Feb 2025) EndedAt: 2025-02-04 03:38:22 -0500 (Tue, 04 Feb 2025) EllapsedTime: 551.6 seconds RetCode: 0 Status: WARNINGS CheckDir: VariantAnnotation.Rcheck Warnings: 2