Package: VariantAnnotation Version: 1.52.0 Command: /home/biocbuild/bbs-3.20-bioc/R/bin/R CMD INSTALL VariantAnnotation StartedAt: 2025-02-03 15:32:00 -0500 (Mon, 03 Feb 2025) EndedAt: 2025-02-03 15:33:11 -0500 (Mon, 03 Feb 2025) EllapsedTime: 71.0 seconds RetCode: 0 Status: OK