Package: VariantExperiment Version: 1.20.0 Command: /home/biocbuild/bbs-3.20-bioc/R/bin/R CMD build --keep-empty-dirs --no-resave-data --md5 VariantExperiment StartedAt: 2025-02-03 19:45:11 -0500 (Mon, 03 Feb 2025) EndedAt: 2025-02-03 19:45:55 -0500 (Mon, 03 Feb 2025) EllapsedTime: 44.0 seconds RetCode: 0 Status: OK PackageFile: VariantExperiment_1.20.0.tar.gz PackageFileSize: 328.2 KiB