Package: VariantExperiment Version: 1.20.0 Command: /home/biocbuild/bbs-3.20-bioc/R/bin/R CMD INSTALL VariantExperiment StartedAt: 2025-02-03 15:21:43 -0500 (Mon, 03 Feb 2025) EndedAt: 2025-02-03 15:22:05 -0500 (Mon, 03 Feb 2025) EllapsedTime: 22.6 seconds RetCode: 0 Status: OK