Package: VariantExperiment Version: 1.20.0 Command: chmod a+r VariantExperiment -R && F:\biocbuild\bbs-3.20-bioc\R\bin\R.exe CMD build --keep-empty-dirs --no-resave-data VariantExperiment StartedAt: 2025-02-17 22:31:17 -0500 (Mon, 17 Feb 2025) EndedAt: 2025-02-17 22:32:12 -0500 (Mon, 17 Feb 2025) EllapsedTime: 54.5 seconds RetCode: 1 Status: ERROR PackageFile: None PackageFileSize: NA