Package: VariantExperiment Version: 1.20.0 Command: /home/biocbuild/R/R/bin/R CMD build --keep-empty-dirs --no-resave-data VariantExperiment StartedAt: 2025-02-04 03:47:11 -0000 (Tue, 04 Feb 2025) EndedAt: 2025-02-04 03:48:26 -0000 (Tue, 04 Feb 2025) EllapsedTime: 75.1 seconds RetCode: 0 Status: OK PackageFile: VariantExperiment_1.20.0.tar.gz PackageFileSize: 394.5 KiB