Package: VegaMC Version: 3.44.0 Command: rm -rf VegaMC.buildbin-libdir && mkdir VegaMC.buildbin-libdir && /Users/biocbuild/BBS/utils/build-universal.sh VegaMC_3.44.0.tar.gz /Library/Frameworks/R.framework/Resources/bin/R VegaMC.buildbin-libdir StartedAt: 2025-01-31 13:54:41 -0500 (Fri, 31 Jan 2025) EndedAt: 2025-01-31 13:55:23 -0500 (Fri, 31 Jan 2025) EllapsedTime: 41.6 seconds RetCode: 0 Status: OK PackageFile: VegaMC_3.44.0.tgz PackageFileSize: 1.882 MiB