Package: VegaMC Version: 3.44.0 Command: /Library/Frameworks/R.framework/Resources/bin/R CMD build --keep-empty-dirs --no-resave-data VegaMC StartedAt: 2025-02-03 23:09:00 -0500 (Mon, 03 Feb 2025) EndedAt: 2025-02-03 23:10:08 -0500 (Mon, 03 Feb 2025) EllapsedTime: 68.2 seconds RetCode: 0 Status: OK PackageFile: VegaMC_3.44.0.tar.gz PackageFileSize: 1.777 MiB