Package: VegaMC Version: 3.44.0 Command: /Library/Frameworks/R.framework/Resources/bin/R CMD check --install=check:VegaMC.install-out.txt --library=/Library/Frameworks/R.framework/Resources/library --no-vignettes --timings VegaMC_3.44.0.tar.gz StartedAt: 2025-02-04 11:46:33 -0500 (Tue, 04 Feb 2025) EndedAt: 2025-02-04 11:50:06 -0500 (Tue, 04 Feb 2025) EllapsedTime: 213.4 seconds RetCode: 0 Status: WARNINGS CheckDir: VegaMC.Rcheck Warnings: 2