Package: VegaMC Version: 3.44.0 Command: /home/biocbuild/bbs-3.20-bioc/R/bin/R CMD INSTALL VegaMC StartedAt: 2025-02-03 15:35:13 -0500 (Mon, 03 Feb 2025) EndedAt: 2025-02-03 15:35:28 -0500 (Mon, 03 Feb 2025) EllapsedTime: 15.3 seconds RetCode: 0 Status: OK