Package: VegaMC Version: 3.44.0 Command: F:\biocbuild\bbs-3.20-bioc\R\bin\R.exe CMD check --no-multiarch --install=check:VegaMC.install-out.txt --library=F:\biocbuild\bbs-3.20-bioc\R\library --no-vignettes --timings VegaMC_3.44.0.tar.gz StartedAt: 2025-02-04 07:24:53 -0500 (Tue, 04 Feb 2025) EndedAt: 2025-02-04 07:27:00 -0500 (Tue, 04 Feb 2025) EllapsedTime: 126.7 seconds RetCode: 0 Status: WARNINGS CheckDir: VegaMC.Rcheck Warnings: 1