Package: VennDetail Version: 1.22.0 Command: /Library/Frameworks/R.framework/Resources/bin/R CMD build --keep-empty-dirs --no-resave-data VennDetail StartedAt: 2025-02-04 10:25:12 -0500 (Tue, 04 Feb 2025) EndedAt: 2025-02-04 10:25:26 -0500 (Tue, 04 Feb 2025) EllapsedTime: 13.8 seconds RetCode: 0 Status: OK PackageFile: VennDetail_1.22.0.tar.gz PackageFileSize: 527 KiB