Package: VennDetail Version: 1.22.0 Command: /Library/Frameworks/R.framework/Resources/bin/R CMD check --install=check:VennDetail.install-out.txt --library=/Library/Frameworks/R.framework/Resources/library --no-vignettes --timings VennDetail_1.22.0.tar.gz StartedAt: 2025-02-05 14:03:03 -0500 (Wed, 05 Feb 2025) EndedAt: 2025-02-05 14:03:49 -0500 (Wed, 05 Feb 2025) EllapsedTime: 46.2 seconds RetCode: 0 Status: OK CheckDir: VennDetail.Rcheck Warnings: 0