Package: VennDetail Version: 1.22.0 Command: rm -rf VennDetail.buildbin-libdir && mkdir VennDetail.buildbin-libdir && F:\biocbuild\bbs-3.20-bioc\R\bin\R.exe CMD INSTALL --build --library=VennDetail.buildbin-libdir VennDetail_1.22.0.tar.gz StartedAt: 2025-02-04 09:45:01 -0500 (Tue, 04 Feb 2025) EndedAt: 2025-02-04 09:45:26 -0500 (Tue, 04 Feb 2025) EllapsedTime: 25.3 seconds RetCode: 0 Status: OK PackageFile: VennDetail_1.22.0.zip PackageFileSize: 318.6 KiB