Package: VennDetail Version: 1.22.0 Command: chmod a+r VennDetail -R && F:\biocbuild\bbs-3.20-bioc\R\bin\R.exe CMD build --keep-empty-dirs --no-resave-data VennDetail StartedAt: 2025-02-03 22:46:44 -0500 (Mon, 03 Feb 2025) EndedAt: 2025-02-03 22:47:05 -0500 (Mon, 03 Feb 2025) EllapsedTime: 21.3 seconds RetCode: 0 Status: OK PackageFile: VennDetail_1.22.0.tar.gz PackageFileSize: 336.7 KiB