Package: VennDetail Version: 1.22.0 Command: F:\biocbuild\bbs-3.20-bioc\R\bin\R.exe CMD INSTALL VennDetail StartedAt: 2025-02-03 15:47:21 -0500 (Mon, 03 Feb 2025) EndedAt: 2025-02-03 15:47:59 -0500 (Mon, 03 Feb 2025) EllapsedTime: 38.2 seconds RetCode: 0 Status: OK