Package: VennDetail
Version: 1.22.0
Command: /home/biocbuild/bbs-3.20-bioc/R/bin/R CMD INSTALL VennDetail
StartedAt: 2024-11-19 15:55:15 -0500 (Tue, 19 Nov 2024)
EndedAt: 2024-11-19 15:55:19 -0500 (Tue, 19 Nov 2024)
EllapsedTime: 4.5 seconds
RetCode: 0
Status: OK