Package: ViSEAGO Version: 1.20.0 Command: /Library/Frameworks/R.framework/Resources/bin/R CMD check --install=check:ViSEAGO.install-out.txt --library=/Library/Frameworks/R.framework/Resources/library --no-vignettes --timings ViSEAGO_1.20.0.tar.gz StartedAt: 2025-02-05 14:03:54 -0500 (Wed, 05 Feb 2025) EndedAt: 2025-02-05 14:07:24 -0500 (Wed, 05 Feb 2025) EllapsedTime: 210.6 seconds RetCode: 1 Status: ERROR CheckDir: ViSEAGO.Rcheck Warnings: NA