Package: ViSEAGO Version: 1.20.0 Command: /Library/Frameworks/R.framework/Resources/bin/R CMD INSTALL ViSEAGO StartedAt: 2025-02-03 17:50:10 -0500 (Mon, 03 Feb 2025) EndedAt: 2025-02-03 17:50:45 -0500 (Mon, 03 Feb 2025) EllapsedTime: 35.1 seconds RetCode: 0 Status: OK