Package: ViSEAGO Version: 1.20.0 Command: /home/biocbuild/bbs-3.20-bioc/R/bin/R CMD build --keep-empty-dirs --no-resave-data --md5 ViSEAGO StartedAt: 2025-02-03 19:46:18 -0500 (Mon, 03 Feb 2025) EndedAt: 2025-02-03 19:47:07 -0500 (Mon, 03 Feb 2025) EllapsedTime: 49.0 seconds RetCode: 0 Status: OK PackageFile: ViSEAGO_1.20.0.tar.gz PackageFileSize: 8.627 MiB