Package: ViSEAGO Version: 1.20.0 Command: /home/biocbuild/bbs-3.20-bioc/R/bin/R CMD check --install=check:ViSEAGO.install-out.txt --library=/home/biocbuild/bbs-3.20-bioc/R/site-library --timings ViSEAGO_1.20.0.tar.gz StartedAt: 2025-02-04 03:32:55 -0500 (Tue, 04 Feb 2025) EndedAt: 2025-02-04 03:36:25 -0500 (Tue, 04 Feb 2025) EllapsedTime: 209.2 seconds RetCode: 1 Status: ERROR CheckDir: ViSEAGO.Rcheck Warnings: NA