Package: ViSEAGO Version: 1.20.0 Command: /home/biocbuild/bbs-3.20-bioc/R/bin/R CMD INSTALL ViSEAGO StartedAt: 2025-02-03 16:00:13 -0500 (Mon, 03 Feb 2025) EndedAt: 2025-02-03 16:00:45 -0500 (Mon, 03 Feb 2025) EllapsedTime: 31.9 seconds RetCode: 0 Status: OK