Package: ViSEAGO Version: 1.20.0 Command: /home/biocbuild/R/R/bin/R CMD check --install=check:ViSEAGO.install-out.txt --library=/home/biocbuild/R/R/site-library --no-vignettes --timings ViSEAGO_1.20.0.tar.gz StartedAt: 2025-02-04 12:06:12 -0000 (Tue, 04 Feb 2025) EndedAt: 2025-02-04 12:09:48 -0000 (Tue, 04 Feb 2025) EllapsedTime: 216.4 seconds RetCode: 1 Status: ERROR CheckDir: ViSEAGO.Rcheck Warnings: NA