Package: ViSEAGO Version: 1.20.0 Command: /home/biocbuild/R/R/bin/R CMD INSTALL ViSEAGO StartedAt: 2025-02-03 21:14:50 -0000 (Mon, 03 Feb 2025) EndedAt: 2025-02-03 21:15:30 -0000 (Mon, 03 Feb 2025) EllapsedTime: 39.9 seconds RetCode: 0 Status: OK