Package: VisiumIO Version: 1.2.0 Command: /Library/Frameworks/R.framework/Resources/bin/R CMD check --install=check:VisiumIO.install-out.txt --library=/Library/Frameworks/R.framework/Resources/library --no-vignettes --timings VisiumIO_1.2.0.tar.gz StartedAt: 2025-02-05 14:03:58 -0500 (Wed, 05 Feb 2025) EndedAt: 2025-02-05 14:07:36 -0500 (Wed, 05 Feb 2025) EllapsedTime: 217.4 seconds RetCode: 0 Status: OK CheckDir: VisiumIO.Rcheck Warnings: 0