Package: VisiumIO
Version: 1.2.0
Command: F:\biocbuild\bbs-3.20-bioc\R\bin\R.exe CMD check --no-multiarch --install=check:VisiumIO.install-out.txt --library=F:\biocbuild\bbs-3.20-bioc\R\library --no-vignettes --timings VisiumIO_1.2.0.tar.gz
StartedAt: 2025-02-18 07:03:51 -0500 (Tue, 18 Feb 2025)
EndedAt: 2025-02-18 07:07:50 -0500 (Tue, 18 Feb 2025)
EllapsedTime: 239.9 seconds
RetCode: 0
Status: OK
CheckDir: VisiumIO.Rcheck
Warnings: 0