Package: Voyager Version: 1.8.1 Command: rm -rf Voyager.buildbin-libdir && mkdir Voyager.buildbin-libdir && F:\biocbuild\bbs-3.20-bioc\R\bin\R.exe CMD INSTALL --build --library=Voyager.buildbin-libdir Voyager_1.8.1.tar.gz StartedAt: 2025-02-04 09:45:26 -0500 (Tue, 04 Feb 2025) EndedAt: 2025-02-04 09:46:51 -0500 (Tue, 04 Feb 2025) EllapsedTime: 84.9 seconds RetCode: 0 Status: OK PackageFile: Voyager_1.8.1.zip PackageFileSize: 2.775 MiB