Package: Voyager Version: 1.8.1 Command: chmod a+r Voyager -R && F:\biocbuild\bbs-3.20-bioc\R\bin\R.exe CMD build --keep-empty-dirs --no-resave-data Voyager StartedAt: 2025-02-03 22:47:08 -0500 (Mon, 03 Feb 2025) EndedAt: 2025-02-03 22:49:24 -0500 (Mon, 03 Feb 2025) EllapsedTime: 136.5 seconds RetCode: 0 Status: OK PackageFile: Voyager_1.8.1.tar.gz PackageFileSize: 2.8 MiB