Package: Voyager Version: 1.8.1 Command: F:\biocbuild\bbs-3.20-bioc\R\bin\R.exe CMD INSTALL Voyager StartedAt: 2025-02-03 17:16:10 -0500 (Mon, 03 Feb 2025) EndedAt: 2025-02-03 17:17:03 -0500 (Mon, 03 Feb 2025) EllapsedTime: 53.3 seconds RetCode: 0 Status: OK