Package: Voyager Version: 1.8.1 Command: /home/biocbuild/R/R/bin/R CMD INSTALL Voyager StartedAt: 2025-02-03 21:17:02 -0000 (Mon, 03 Feb 2025) EndedAt: 2025-02-03 21:17:03 -0000 (Mon, 03 Feb 2025) EllapsedTime: 0.3 seconds RetCode: 1 Status: ERROR