Package: VplotR Version: 1.16.0 Command: /Library/Frameworks/R.framework/Resources/bin/R CMD build --keep-empty-dirs --no-resave-data VplotR StartedAt: 2025-02-04 10:30:22 -0500 (Tue, 04 Feb 2025) EndedAt: 2025-02-04 10:32:45 -0500 (Tue, 04 Feb 2025) EllapsedTime: 142.8 seconds RetCode: 0 Status: OK PackageFile: VplotR_1.16.0.tar.gz PackageFileSize: 5.163 MiB