Package: VplotR Version: 1.16.0 Command: /Library/Frameworks/R.framework/Resources/bin/R CMD check --install=check:VplotR.install-out.txt --library=/Library/Frameworks/R.framework/Resources/library --no-vignettes --timings VplotR_1.16.0.tar.gz StartedAt: 2025-02-05 14:07:24 -0500 (Wed, 05 Feb 2025) EndedAt: 2025-02-05 14:13:32 -0500 (Wed, 05 Feb 2025) EllapsedTime: 367.3 seconds RetCode: 0 Status: OK CheckDir: VplotR.Rcheck Warnings: 0