Package: VplotR Version: 1.16.0 Command: /Library/Frameworks/R.framework/Resources/bin/R CMD INSTALL VplotR StartedAt: 2025-02-03 15:46:36 -0500 (Mon, 03 Feb 2025) EndedAt: 2025-02-03 15:47:10 -0500 (Mon, 03 Feb 2025) EllapsedTime: 34.0 seconds RetCode: 0 Status: OK