Package: VplotR Version: 1.16.0 Command: /Library/Frameworks/R.framework/Resources/bin/R CMD INSTALL VplotR StartedAt: 2024-11-08 15:22:57 -0500 (Fri, 08 Nov 2024) EndedAt: 2024-11-08 15:23:08 -0500 (Fri, 08 Nov 2024) EllapsedTime: 11.2 seconds RetCode: 0 Status: OK