Package: VplotR Version: 1.16.0 Command: /home/biocbuild/R/R/bin/R CMD check --install=check:VplotR.install-out.txt --library=/home/biocbuild/R/R/site-library --no-vignettes --timings VplotR_1.16.0.tar.gz StartedAt: 2024-11-20 13:41:06 -0000 (Wed, 20 Nov 2024) EndedAt: 2024-11-20 13:48:23 -0000 (Wed, 20 Nov 2024) EllapsedTime: 436.8 seconds RetCode: 0 Status: OK CheckDir: VplotR.Rcheck Warnings: 0