Package: VplotR Version: 1.16.0 Command: F:\biocbuild\bbs-3.20-bioc\R\bin\R.exe CMD INSTALL VplotR StartedAt: 2025-02-03 16:25:22 -0500 (Mon, 03 Feb 2025) EndedAt: 2025-02-03 16:26:11 -0500 (Mon, 03 Feb 2025) EllapsedTime: 48.9 seconds RetCode: 0 Status: OK