Package: VplotR Version: 1.16.0 Command: /home/biocbuild/R/R/bin/R CMD check --install=check:VplotR.install-out.txt --library=/home/biocbuild/R/R/site-library --no-vignettes --timings VplotR_1.16.0.tar.gz StartedAt: 2025-02-04 12:06:22 -0000 (Tue, 04 Feb 2025) EndedAt: 2025-02-04 12:12:42 -0000 (Tue, 04 Feb 2025) EllapsedTime: 379.6 seconds RetCode: 0 Status: OK CheckDir: VplotR.Rcheck Warnings: 0