Package: VplotR Version: 1.16.0 Command: /home/biocbuild/R/R/bin/R CMD INSTALL VplotR StartedAt: 2025-02-10 20:25:14 -0000 (Mon, 10 Feb 2025) EndedAt: 2025-02-10 20:25:49 -0000 (Mon, 10 Feb 2025) EllapsedTime: 35.5 seconds RetCode: 0 Status: OK