Package: Wrench Version: 1.24.0 Command: /Library/Frameworks/R.framework/Resources/bin/R CMD build --keep-empty-dirs --no-resave-data Wrench StartedAt: 2025-02-03 23:14:14 -0500 (Mon, 03 Feb 2025) EndedAt: 2025-02-03 23:15:52 -0500 (Mon, 03 Feb 2025) EllapsedTime: 98.3 seconds RetCode: 0 Status: OK PackageFile: Wrench_1.24.0.tar.gz PackageFileSize: 224.7 KiB