Package: Wrench Version: 1.24.0 Command: /Library/Frameworks/R.framework/Resources/bin/R CMD check --install=check:Wrench.install-out.txt --library=/Library/Frameworks/R.framework/Resources/library --no-vignettes --timings Wrench_1.24.0.tar.gz StartedAt: 2025-02-04 11:56:03 -0500 (Tue, 04 Feb 2025) EndedAt: 2025-02-04 11:57:50 -0500 (Tue, 04 Feb 2025) EllapsedTime: 106.8 seconds RetCode: 0 Status: OK CheckDir: Wrench.Rcheck Warnings: 0